BEGIN:VCALENDAR
VERSION:2.0
PRODID:-//Club photo Reflex 33 - ECPv6.15.20//NONSGML v1.0//EN
CALSCALE:GREGORIAN
METHOD:PUBLISH
X-WR-CALNAME:Club photo Reflex 33
X-ORIGINAL-URL:https://www.reflex33.fr
X-WR-CALDESC:Évènements pour Club photo Reflex 33
REFRESH-INTERVAL;VALUE=DURATION:PT1H
X-Robots-Tag:noindex
X-PUBLISHED-TTL:PT1H
BEGIN:VTIMEZONE
TZID:Europe/Paris
BEGIN:DAYLIGHT
TZOFFSETFROM:+0100
TZOFFSETTO:+0200
TZNAME:CEST
DTSTART:20230326T010000
END:DAYLIGHT
BEGIN:STANDARD
TZOFFSETFROM:+0200
TZOFFSETTO:+0100
TZNAME:CET
DTSTART:20231029T010000
END:STANDARD
BEGIN:DAYLIGHT
TZOFFSETFROM:+0100
TZOFFSETTO:+0200
TZNAME:CEST
DTSTART:20240331T010000
END:DAYLIGHT
BEGIN:STANDARD
TZOFFSETFROM:+0200
TZOFFSETTO:+0100
TZNAME:CET
DTSTART:20241027T010000
END:STANDARD
BEGIN:DAYLIGHT
TZOFFSETFROM:+0100
TZOFFSETTO:+0200
TZNAME:CEST
DTSTART:20250330T010000
END:DAYLIGHT
BEGIN:STANDARD
TZOFFSETFROM:+0200
TZOFFSETTO:+0100
TZNAME:CET
DTSTART:20251026T010000
END:STANDARD
END:VTIMEZONE
BEGIN:VEVENT
DTSTART;TZID=Europe/Paris:20240906T170000
DTEND;TZID=Europe/Paris:20240906T210000
DTSTAMP:20260422T133526
CREATED:20240719T100226Z
LAST-MODIFIED:20240719T100226Z
UID:3795-1725642000-1725656400@www.reflex33.fr
SUMMARY:Forum des associations
DESCRIPTION:Comme chaque année\, le club sera présent lors du Forum des associations organisé par la Ville de Saint-Médard-en-Jalles. \nL’ouverture des portes se fait à 17h pour les visiteurs et certain(e)s d’entre nous seront sur place avant pour installer le stand.
URL:https://www.reflex33.fr/agenda/forum-des-associations/
LOCATION:Carré des Jalles\, 5001F Pl. de la République\, Saint-Médard-en-Jalles\, 33160\, France
CATEGORIES:Autres évènements
ATTACH;FMTTYPE=image/png:https://www.reflex33.fr/wp-content/uploads/2024/07/image-forum-1-e16940711325351.png
END:VEVENT
END:VCALENDAR