BEGIN:VCALENDAR
VERSION:2.0
PRODID:-//Club photo Reflex 33 - ECPv6.15.20//NONSGML v1.0//EN
CALSCALE:GREGORIAN
METHOD:PUBLISH
X-WR-CALNAME:Club photo Reflex 33
X-ORIGINAL-URL:https://www.reflex33.fr
X-WR-CALDESC:Évènements pour Club photo Reflex 33
REFRESH-INTERVAL;VALUE=DURATION:PT1H
X-Robots-Tag:noindex
X-PUBLISHED-TTL:PT1H
BEGIN:VTIMEZONE
TZID:Europe/Paris
BEGIN:DAYLIGHT
TZOFFSETFROM:+0100
TZOFFSETTO:+0200
TZNAME:CEST
DTSTART:20230326T010000
END:DAYLIGHT
BEGIN:STANDARD
TZOFFSETFROM:+0200
TZOFFSETTO:+0100
TZNAME:CET
DTSTART:20231029T010000
END:STANDARD
BEGIN:DAYLIGHT
TZOFFSETFROM:+0100
TZOFFSETTO:+0200
TZNAME:CEST
DTSTART:20240331T010000
END:DAYLIGHT
BEGIN:STANDARD
TZOFFSETFROM:+0200
TZOFFSETTO:+0100
TZNAME:CET
DTSTART:20241027T010000
END:STANDARD
BEGIN:DAYLIGHT
TZOFFSETFROM:+0100
TZOFFSETTO:+0200
TZNAME:CEST
DTSTART:20250330T010000
END:DAYLIGHT
BEGIN:STANDARD
TZOFFSETFROM:+0200
TZOFFSETTO:+0100
TZNAME:CET
DTSTART:20251026T010000
END:STANDARD
END:VTIMEZONE
BEGIN:VEVENT
DTSTART;TZID=Europe/Paris:20241010T193000
DTEND;TZID=Europe/Paris:20241010T223000
DTSTAMP:20260422T120828
CREATED:20241007T064123Z
LAST-MODIFIED:20241007T064759Z
UID:3899-1728588600-1728599400@www.reflex33.fr
SUMMARY:Place Ravezies de Bordeaux
DESCRIPTION:Jeudi prochain\, nous vous proposons une sortie inédite : la place Ravezies de Bordeaux ! \nCet axe de circulation majeur sera l’occasion de capturer des véhicules (voitures\, bus\, trams…) ainsi que leurs filés et d’expérimenter la technique du timelapse. \nCovoiturage pour un départ à 19h30 depuis le parking du Leclerc de Saint-Médard-en-Jalles\,\nou\nrendez-vous à 20h15 sur place. \nPour le covoiturage\,\nVoici le plan pour situer le lieu de rendez-vous :\n\net le lien pour que votre GPS calcule l’itinéraire : https://goo.gl/maps/8WwueVHbBQxQwWBo9 \nSur place\,\nOn se rejoindra au pied du bâtiment « Gaz de Bordeaux ». \nVoici le plan pour situer le lieu de rendez-vous :\n﻿\net le lien pour que votre GPS calcule l’itinéraire : https://maps.app.goo.gl/37xwrm8ia3spwC8y5 \nQui vient jeudi prochain ?\nVeuillez activer JavaScript dans votre navigateur pour remplir ce formulaire.Nom *Choisissez votre lieu de rendez-vous : *Covoiturage / Transport en communJe m'y rends directement sur placePas possible pour moiEnregistrer  \nLes participants à la prochaine sortie\n  \n    \n      \n                  Nom\n                  Dispo\n              \n    \n    \n      \n                  Nom\n                  Dispo\n              \n    \n    \n              \n                      Michaël\n                      Covoiturage / Transport en commun\n                  \n              \n                      Matthieu astarick\n                      Covoiturage / Transport en commun\n                  \n              \n                      DanyB\n                      Covoiturage / Transport en commun\n                  \n              \n                      Damien\n                      Je m'y rends directement sur place\n                  \n              \n                      Dominique\n                      Je m'y rends directement sur place\n                  \n              \n                      Isabelle\n                      Je m'y rends directement sur place\n                  \n              \n                      Monique\n                      Je m'y rends directement sur place\n                  \n              \n                      Véronique\n                      Pas possible pour moi\n                  \n              \n                      Murielle\n                      Pas possible pour moi\n                  \n              \n                      Sylvain\n                      Pas possible pour moi
URL:https://www.reflex33.fr/agenda/place-ravezies-de-bordeaux/
LOCATION:Place Ravezies\, Place Ravezies\, Bordeaux\, 33000\, France
CATEGORIES:Sorties du jeudi soir
ATTACH;FMTTYPE=image/jpeg:https://www.reflex33.fr/wp-content/uploads/2024/10/initiationphoto-files-10-1024x5891-1.jpg
END:VEVENT
END:VCALENDAR