BEGIN:VCALENDAR
VERSION:2.0
PRODID:-//Club photo Reflex 33 - ECPv6.15.20//NONSGML v1.0//EN
CALSCALE:GREGORIAN
METHOD:PUBLISH
X-ORIGINAL-URL:https://www.reflex33.fr
X-WR-CALDESC:Évènements pour Club photo Reflex 33
REFRESH-INTERVAL;VALUE=DURATION:PT1H
X-Robots-Tag:noindex
X-PUBLISHED-TTL:PT1H
BEGIN:VTIMEZONE
TZID:Europe/Paris
BEGIN:DAYLIGHT
TZOFFSETFROM:+0100
TZOFFSETTO:+0200
TZNAME:CEST
DTSTART:20230326T010000
END:DAYLIGHT
BEGIN:STANDARD
TZOFFSETFROM:+0200
TZOFFSETTO:+0100
TZNAME:CET
DTSTART:20231029T010000
END:STANDARD
BEGIN:DAYLIGHT
TZOFFSETFROM:+0100
TZOFFSETTO:+0200
TZNAME:CEST
DTSTART:20240331T010000
END:DAYLIGHT
BEGIN:STANDARD
TZOFFSETFROM:+0200
TZOFFSETTO:+0100
TZNAME:CET
DTSTART:20241027T010000
END:STANDARD
BEGIN:DAYLIGHT
TZOFFSETFROM:+0100
TZOFFSETTO:+0200
TZNAME:CEST
DTSTART:20250330T010000
END:DAYLIGHT
BEGIN:STANDARD
TZOFFSETFROM:+0200
TZOFFSETTO:+0100
TZNAME:CET
DTSTART:20251026T010000
END:STANDARD
END:VTIMEZONE
BEGIN:VEVENT
DTSTART;TZID=Europe/Paris:20241024T181500
DTEND;TZID=Europe/Paris:20241024T223000
DTSTAMP:20260422T120954
CREATED:20241014T071918Z
LAST-MODIFIED:20241014T160355Z
UID:3906-1729793700-1729809000@www.reflex33.fr
SUMMARY:Château d'Arsac
DESCRIPTION:Nous vous proposons une visite exceptionnelle (et inédite) du château d’Arsac : son parc\, ses œuvres contemporaines et ses chais !\nLe château d’Arsac\, classé en Haut Médoc et appellation Margaux\, nous accueille. Depuis 1992\, une œuvre est installée chaque année\, choisie pour sa symbolique forte en lien avec les évènements de la période.\n\nNous pourrons découvrir son parc où sont installées une trentaine d’oeuvres contemporaines\, dont certaines seront éclairées à la tombée de la nuit et nous pourrons aussi profiter des chais ouverts exceptionnellement une partie de la soirée. \nPour ceux qui sont intéressés\, le château d’Arsac nous propose d’arriver sur place à 19h pour profiter d’une présentation rapide du domaine et d’une dégustation de 2 vins jusqu’à 19h45/20h.\n>>> Participation financière de 6€ par personne\, payable au club (inscription obligatoire avant le samedi 19 octobre). \nPour les autres\, on conserve un covoiturage pour un départ à 19h30 depuis le parking du Leclerc de Saint-Médard-en-Jalles ou rendez-vous à 20h00 sur place pour rejoindre le groupe déjà sur place et commencer la visite du parc et des chais. \nPour le covoiturage\,\nVoici le plan pour situer le lieu de rendez-vous :\n\net le lien pour que votre GPS calcule l’itinéraire : https://goo.gl/maps/8WwueVHbBQxQwWBo9 \nSur place\,\nOn se rejoindra sur le parking « visiteurs » à l’intérieur du domaine\, devant les chais. \nVoici le plan pour situer le lieu de rendez-vous :\n﻿\net le lien pour que votre GPS calcule l’itinéraire : https://maps.app.goo.gl/9DaMRJbFvcReZbfT6 \nQui vient à cette sortie (quatre choix possibles) ?\nVeuillez activer JavaScript dans votre navigateur pour remplir ce formulaire.Nom *Choisissez : *Groupe 1 : 18h30\, covoiturage pour dégustation (6€)Groupe 1 : 19h\, sur place pour dégustation (6€)Groupe 2 : 19h30\, pour covoiturageGroupe 2 : 20h15\, sur placePas possible pour moiEnregistrer  \nLes participants à la prochaine sortie
URL:https://www.reflex33.fr/agenda/chateau-darsac/
LOCATION:Château d’Arsac\, Le Château d'Arsac\, Arsac\, 33460\, France
CATEGORIES:Sorties du jeudi soir
ATTACH;FMTTYPE=image/jpeg:https://www.reflex33.fr/wp-content/uploads/2024/10/les-visionnaires-zebra-1080x675-1-scaled.jpg
END:VEVENT
END:VCALENDAR