BEGIN:VCALENDAR
VERSION:2.0
PRODID:-//Club photo Reflex 33 - ECPv6.15.20//NONSGML v1.0//EN
CALSCALE:GREGORIAN
METHOD:PUBLISH
X-WR-CALNAME:Club photo Reflex 33
X-ORIGINAL-URL:https://www.reflex33.fr
X-WR-CALDESC:Évènements pour Club photo Reflex 33
REFRESH-INTERVAL;VALUE=DURATION:PT1H
X-Robots-Tag:noindex
X-PUBLISHED-TTL:PT1H
BEGIN:VTIMEZONE
TZID:Europe/Paris
BEGIN:DAYLIGHT
TZOFFSETFROM:+0100
TZOFFSETTO:+0200
TZNAME:CEST
DTSTART:20250330T010000
END:DAYLIGHT
BEGIN:STANDARD
TZOFFSETFROM:+0200
TZOFFSETTO:+0100
TZNAME:CET
DTSTART:20251026T010000
END:STANDARD
BEGIN:DAYLIGHT
TZOFFSETFROM:+0100
TZOFFSETTO:+0200
TZNAME:CEST
DTSTART:20260329T010000
END:DAYLIGHT
BEGIN:STANDARD
TZOFFSETFROM:+0200
TZOFFSETTO:+0100
TZNAME:CET
DTSTART:20261025T010000
END:STANDARD
BEGIN:DAYLIGHT
TZOFFSETFROM:+0100
TZOFFSETTO:+0200
TZNAME:CEST
DTSTART:20270328T010000
END:DAYLIGHT
BEGIN:STANDARD
TZOFFSETFROM:+0200
TZOFFSETTO:+0100
TZNAME:CET
DTSTART:20271031T010000
END:STANDARD
END:VTIMEZONE
BEGIN:VEVENT
DTSTART;TZID=Europe/Paris:20260212T193000
DTEND;TZID=Europe/Paris:20260212T230000
DTSTAMP:20260421T160113
CREATED:20260210T082351Z
LAST-MODIFIED:20260210T082351Z
UID:4618-1770924600-1770937200@www.reflex33.fr
SUMMARY:Talence la nuit
DESCRIPTION:Jeudi prochain\, nous vous proposons une séance de photo de nuit à Talence. \n\nNous irons d’abord dans le centre-ville et ferons le tour du parc Peixotto (qui sera fermé) pour tenter de capturer la château au travers des grilles du parc\nPuis nous irons au château de Thouars qui donne sur un parc ouvert\nEt nous pourrions finir la soirée devant le stade nautique où il y a un grand espace propice au light painting\n\nPour celles et ceux qui le souhaitent\, cette sortie pourrait être l’occasion de participer individuellement à un concours de photos organisé à Talence du 28 janvier au 1er mars. Chaque participant peut proposer une à trois photographies maximum\, en lien avec le thème « Talence de nuit ». Les clichés peuvent notamment mettre en valeur des ambiances nocturnes\, des scènes urbaines\, des paysages\, des jeux de lumière\, des silhouettes ou mouvements\, tant qu’ils sont réalisés à Talence. Voir les modalités du concours \nCovoiturage pour un départ à 19h30 depuis le parking du Leclerc de Saint-Médard-en-Jalles\,\nou\nrendez-vous à 20h15 sur place \nSur place\,\nOn se rejoindra d’abord dans le ventre-ville au bout de l’avenue Espeleta devant l’entrée du parc Peixotto denant sur le château. \nVoici le plan pour situer le lieu de rendez-vous :\n﻿\net le lien pour que votre GPS calcule l’itinéraire : https://maps.app.goo.gl/SESXqZnsS5C7UAeD8 \nEnsuite\nNous irons changerons de lieu et on se rejoindra sur le parking de l’espace culturel le Dôme qui se trouve juste à côté du château de Thouars et du stade nautique. \nVoici la plan pour situer le lieu du rendez-vous : \n﻿\net le lien pour que votre GPS calcule l’itinéraire : https://maps.app.goo.gl/Gj6nepKFhG1QRiZ1A \nQui vient jeudi prochain ?\nVeuillez activer JavaScript dans votre navigateur pour remplir ce formulaire.Nom *Choisissez votre lieu de rendez-vous : *Covoiturage / Transport en communJe m'y rends directement sur placePas possible pour moiEnregistrer  \nPour modifier votre statut dans la liste suivante\, il vous suffit de réécrire votre nom tel que vous l’avez saisi la première fois dans le formulaire ci-dessus et de sélectionner un nouveau statut. \nLes participants à la prochaine sortie\n  \n    \n      \n                  Nom\n                  Dispo\n              \n    \n    \n      \n                  Nom\n                  Dispo\n              \n    \n    \n              \n                      Michaël\n                      Covoiturage / Transport en commun\n                  \n              \n                      Matthieu astarick\n                      Covoiturage / Transport en commun\n                  \n              \n                      Damien\n                      Je m'y rends directement sur place\n                  \n              \n                      Dominique\n                      Je m'y rends directement sur place\n                  \n              \n                      Isabelle\n                      Je m'y rends directement sur place\n                  \n              \n                      Véronique\n                      Pas possible pour moi
URL:https://www.reflex33.fr/agenda/talence-la-nuit/
LOCATION:Centre-Ville de Talence\, 17 Av. Espeleta\, Talence\, 33400\, France
CATEGORIES:Sorties du jeudi soir
ATTACH;FMTTYPE=image/jpeg:https://www.reflex33.fr/wp-content/uploads/2026/02/622558518_1289915506517558_7424957582904674483_n.jpg
END:VEVENT
END:VCALENDAR