BEGIN:VCALENDAR
VERSION:2.0
PRODID:-//Club photo Reflex 33 - ECPv6.15.20//NONSGML v1.0//EN
CALSCALE:GREGORIAN
METHOD:PUBLISH
X-WR-CALNAME:Club photo Reflex 33
X-ORIGINAL-URL:https://www.reflex33.fr
X-WR-CALDESC:Évènements pour Club photo Reflex 33
REFRESH-INTERVAL;VALUE=DURATION:PT1H
X-Robots-Tag:noindex
X-PUBLISHED-TTL:PT1H
BEGIN:VTIMEZONE
TZID:Europe/Paris
BEGIN:DAYLIGHT
TZOFFSETFROM:+0100
TZOFFSETTO:+0200
TZNAME:CEST
DTSTART:20250330T010000
END:DAYLIGHT
BEGIN:STANDARD
TZOFFSETFROM:+0200
TZOFFSETTO:+0100
TZNAME:CET
DTSTART:20251026T010000
END:STANDARD
BEGIN:DAYLIGHT
TZOFFSETFROM:+0100
TZOFFSETTO:+0200
TZNAME:CEST
DTSTART:20260329T010000
END:DAYLIGHT
BEGIN:STANDARD
TZOFFSETFROM:+0200
TZOFFSETTO:+0100
TZNAME:CET
DTSTART:20261025T010000
END:STANDARD
BEGIN:DAYLIGHT
TZOFFSETFROM:+0100
TZOFFSETTO:+0200
TZNAME:CEST
DTSTART:20270328T010000
END:DAYLIGHT
BEGIN:STANDARD
TZOFFSETFROM:+0200
TZOFFSETTO:+0100
TZNAME:CET
DTSTART:20271031T010000
END:STANDARD
END:VTIMEZONE
BEGIN:VEVENT
DTSTART;TZID=Europe/Paris:20260319T200000
DTEND;TZID=Europe/Paris:20260319T223000
DTSTAMP:20260421T121447
CREATED:20260313T104818Z
LAST-MODIFIED:20260313T104841Z
UID:4649-1773950400-1773959400@www.reflex33.fr
SUMMARY:Séance d'analyse
DESCRIPTION:Jeudi soir\, nous vous proposons une séance d’analyse. \nPour rappel\, notre projet d’exposition « Portraits de mots » a pour objectif de faire le portrait des mots suivants : \n\n« Noir et Blanc »\n« Lignes »\n+ Une innovation cette année\, « la photo à écouter »\nLes photos de « Studio » réalisées lors des séances studio avec Adrien seront projetées sur un écran durant l’exposition.\n\nEnvoyez-nous vos photos par mail ou apportez-les sur une clé USB ! \nRendez-vous à l’espace Georges Brassens de Saint-Médard-en-Jalles à 20h sachant que nous commencerons à installer le matériel dès 19h30. \non se rejoindra.au.104 Av. Anatole France Saint Médard en Jalles  \net le lien pour que votre GPS calcule l’itinéraire :\n﻿ \nhttps://maps.app.goo.gl/auLndSaRChVZJTJa6 \nQui vient à la prochaine séance de studio ?\nVeuillez activer JavaScript dans votre navigateur pour remplir ce formulaire.Nom *Quelle est votre disponibilité ? : *Je serai la !Pas possible pour moiEnregistrer  \nListe des participants
URL:https://www.reflex33.fr/agenda/seance-danalyse-2/
LOCATION:Salle George Brassens (grande extention)\, 104 Avenue Anatole France\, Saint-Médard-en-Jalles\, 33160\, France
CATEGORIES:Sorties du jeudi soir
ATTACH;FMTTYPE=image/jpeg:https://www.reflex33.fr/wp-content/uploads/2022/04/207002-l-espace-de-discussion-n-est-pas-un-bureau-des-plaintes-web-tete-021670943598-scaled.jpg
END:VEVENT
END:VCALENDAR