BEGIN:VCALENDAR
VERSION:2.0
PRODID:-//Club photo Reflex 33 - ECPv6.15.20//NONSGML v1.0//EN
CALSCALE:GREGORIAN
METHOD:PUBLISH
X-WR-CALNAME:Club photo Reflex 33
X-ORIGINAL-URL:https://www.reflex33.fr
X-WR-CALDESC:Évènements pour Club photo Reflex 33
REFRESH-INTERVAL;VALUE=DURATION:PT1H
X-Robots-Tag:noindex
X-PUBLISHED-TTL:PT1H
BEGIN:VTIMEZONE
TZID:Europe/Paris
BEGIN:DAYLIGHT
TZOFFSETFROM:+0100
TZOFFSETTO:+0200
TZNAME:CEST
DTSTART:20250330T010000
END:DAYLIGHT
BEGIN:STANDARD
TZOFFSETFROM:+0200
TZOFFSETTO:+0100
TZNAME:CET
DTSTART:20251026T010000
END:STANDARD
BEGIN:DAYLIGHT
TZOFFSETFROM:+0100
TZOFFSETTO:+0200
TZNAME:CEST
DTSTART:20260329T010000
END:DAYLIGHT
BEGIN:STANDARD
TZOFFSETFROM:+0200
TZOFFSETTO:+0100
TZNAME:CET
DTSTART:20261025T010000
END:STANDARD
BEGIN:DAYLIGHT
TZOFFSETFROM:+0100
TZOFFSETTO:+0200
TZNAME:CEST
DTSTART:20270328T010000
END:DAYLIGHT
BEGIN:STANDARD
TZOFFSETFROM:+0200
TZOFFSETTO:+0100
TZNAME:CET
DTSTART:20271031T010000
END:STANDARD
END:VTIMEZONE
BEGIN:VEVENT
DTSTART;TZID=Europe/Paris:20260423T193000
DTEND;TZID=Europe/Paris:20260423T223000
DTSTAMP:20260423T012210
CREATED:20240923T063239Z
LAST-MODIFIED:20260420T070024Z
UID:3890-1776972600-1776983400@www.reflex33.fr
SUMMARY:Séance thématique noir&blanc à Bacalan (pont\, Cité du vin\, cité...)
DESCRIPTION:Jeudi prochain\, nous vous proposons une sortie autour des bassins à flot de Bordeaux. \nCovoiturage pour un départ à 19h30 depuis le parking du Leclerc de Saint-Médard-en-Jalles\,\nou\nrendez-vous à 20h15 sur place. \nSur place\,\nOn se rejoindra aux halles de Bacalan \nVoici le plan pour situer le lieu de rendez-vous : \n﻿ \net le lien pour que votre GPS calcule l’itinéraire : https://maps.app.goo.gl/xT9BCho6gyfjztws5 \nQui vient jeudi prochain ?\nVeuillez activer JavaScript dans votre navigateur pour remplir ce formulaire.Nom *Choisissez votre lieu de rendez-vous : *Covoiturage / Transport en communJe m'y rends directement sur placePas possible pour moiEnregistrer  \nPour modifier votre statut dans la liste suivante\, il vous suffit de réécrire votre nom tel que vous l’avez saisi la première fois dans le formulaire ci-dessus et de sélectionner un nouveau statut. \nLes participants à la prochaine sortie\n  \n    \n      \n                  Nom\n                  Dispo\n              \n    \n    \n      \n                  Nom\n                  Dispo\n              \n    \n    \n              \n                      Michaël\n                      Covoiturage / Transport en commun\n                  \n              \n                      DanyB\n                      Covoiturage / Transport en commun\n                  \n              \n                      Gerald\n                      Covoiturage / Transport en commun\n                  \n              \n                      Damien\n                      Je m'y rends directement sur place\n                  \n              \n                      Dominique\n                      Je m'y rends directement sur place\n                  \n              \n                      Isabelle\n                      Je m'y rends directement sur place\n                  \n              \n                      Monique\n                      Je m'y rends directement sur place\n                  \n              \n                      Christine\n                      Je m'y rends directement sur place\n                  \n              \n                      Annie\n                      Je m'y rends directement sur place\n                  \n              \n                      Lionel STD\n                      Je m'y rends directement sur place\n                  \n              \n                      Véronique\n                      Pas possible pour moi\n                  \n              \n                      Murielle\n                      Pas possible pour moi\n                  \n              \n                      Sylvain\n                      Pas possible pour moi\n                  \n              \n                      Matthieu astarick\n                      Pas possible pour moi
URL:https://www.reflex33.fr/agenda/bassins-a-flot-de-bordeaux/
LOCATION:Bassins à Flot de Bordeaux\, 15 Quai du Maroc\, Bordeaux\, 33300\, France
CATEGORIES:Sorties du jeudi soir
ATTACH;FMTTYPE=image/jpeg:https://www.reflex33.fr/wp-content/uploads/2018/11/Bassin-à-flot_800px.jpg
END:VEVENT
END:VCALENDAR