BEGIN:VCALENDAR
VERSION:2.0
PRODID:-//Club photo Reflex 33 - ECPv6.15.20//NONSGML v1.0//EN
CALSCALE:GREGORIAN
METHOD:PUBLISH
X-ORIGINAL-URL:https://www.reflex33.fr
X-WR-CALDESC:Évènements pour Club photo Reflex 33
REFRESH-INTERVAL;VALUE=DURATION:PT1H
X-Robots-Tag:noindex
X-PUBLISHED-TTL:PT1H
BEGIN:VTIMEZONE
TZID:Europe/Paris
BEGIN:DAYLIGHT
TZOFFSETFROM:+0100
TZOFFSETTO:+0200
TZNAME:CEST
DTSTART:20250330T010000
END:DAYLIGHT
BEGIN:STANDARD
TZOFFSETFROM:+0200
TZOFFSETTO:+0100
TZNAME:CET
DTSTART:20251026T010000
END:STANDARD
BEGIN:DAYLIGHT
TZOFFSETFROM:+0100
TZOFFSETTO:+0200
TZNAME:CEST
DTSTART:20260329T010000
END:DAYLIGHT
BEGIN:STANDARD
TZOFFSETFROM:+0200
TZOFFSETTO:+0100
TZNAME:CET
DTSTART:20261025T010000
END:STANDARD
BEGIN:DAYLIGHT
TZOFFSETFROM:+0100
TZOFFSETTO:+0200
TZNAME:CEST
DTSTART:20270328T010000
END:DAYLIGHT
BEGIN:STANDARD
TZOFFSETFROM:+0200
TZOFFSETTO:+0100
TZNAME:CET
DTSTART:20271031T010000
END:STANDARD
END:VTIMEZONE
BEGIN:VEVENT
DTSTART;TZID=Europe/Paris:20260430T193000
DTEND;TZID=Europe/Paris:20260430T223000
DTSTAMP:20260421T103518
CREATED:20241118T064851Z
LAST-MODIFIED:20251019T172023Z
UID:3948-1777577400-1777588200@www.reflex33.fr
SUMMARY:SkatePark des Chartrons et quais de Bordeaux
DESCRIPTION:Jeudi prochain\, nous vous proposons une séance de photo de sport autour du skatepark des Chartrons. \nCovoiturage pour un départ à 19h30 depuis le parking du Leclerc de Saint-Médard-en-Jalles\,\nou\nrendez-vous à 20h15 sur place \nSur place\,\n  \nVoici le plan pour situer le lieu de rendez-vous :\n\net le lien pour que votre GPS calcule l’itinéraire : \nhttps://maps.app.goo.gl/Kwz9ZbzmPZvEvWZr7
URL:https://www.reflex33.fr/agenda/skatepark-lightpainting-a-darwin/
LOCATION:Skate park des chartrons
CATEGORIES:Sorties du jeudi soir
ATTACH;FMTTYPE=image/jpeg:https://www.reflex33.fr/wp-content/uploads/2022/09/9300-copie-scaled.jpg
END:VEVENT
END:VCALENDAR