BEGIN:VCALENDAR
VERSION:2.0
PRODID:-//Club photo Reflex 33 - ECPv6.15.20//NONSGML v1.0//EN
CALSCALE:GREGORIAN
METHOD:PUBLISH
X-ORIGINAL-URL:https://www.reflex33.fr
X-WR-CALDESC:Évènements pour Club photo Reflex 33
REFRESH-INTERVAL;VALUE=DURATION:PT1H
X-Robots-Tag:noindex
X-PUBLISHED-TTL:PT1H
BEGIN:VTIMEZONE
TZID:Europe/Paris
BEGIN:DAYLIGHT
TZOFFSETFROM:+0100
TZOFFSETTO:+0200
TZNAME:CEST
DTSTART:20230326T010000
END:DAYLIGHT
BEGIN:STANDARD
TZOFFSETFROM:+0200
TZOFFSETTO:+0100
TZNAME:CET
DTSTART:20231029T010000
END:STANDARD
BEGIN:DAYLIGHT
TZOFFSETFROM:+0100
TZOFFSETTO:+0200
TZNAME:CEST
DTSTART:20240331T010000
END:DAYLIGHT
BEGIN:STANDARD
TZOFFSETFROM:+0200
TZOFFSETTO:+0100
TZNAME:CET
DTSTART:20241027T010000
END:STANDARD
BEGIN:DAYLIGHT
TZOFFSETFROM:+0100
TZOFFSETTO:+0200
TZNAME:CEST
DTSTART:20250330T010000
END:DAYLIGHT
BEGIN:STANDARD
TZOFFSETFROM:+0200
TZOFFSETTO:+0100
TZNAME:CET
DTSTART:20251026T010000
END:STANDARD
END:VTIMEZONE
BEGIN:VEVENT
DTSTART;TZID=Europe/Paris:20241107T193000
DTEND;TZID=Europe/Paris:20241107T223000
DTSTAMP:20260420T100754
CREATED:20240719T101421Z
LAST-MODIFIED:20241104T072603Z
UID:3800-1731007800-1731018600@www.reflex33.fr
SUMMARY:Séance de portrait en studio (encadrée par Adrien)
DESCRIPTION:Séance de studio encadrée par Adrien. \nDébut de la séance à 20h sachant que nous commencerons à installer le matériel dès 19h30. \nQui vient à cette séance ?\nVeuillez activer JavaScript dans votre navigateur pour remplir ce formulaire.Nom *Quelle est votre disponibilité ? : *Je serai la !Pas possible pour moiEnregistrer  \nPour modifier votre statut dans la liste suivante\, il vous suffit de réécrire votre nom tel que vous l’avez saisi la première fois dans le formulaire ci-dessus et de sélectionner un nouveau statut. \nListe des participants
URL:https://www.reflex33.fr/agenda/seance-de-portrait-en-studio-encadree-par-adrien-2/
LOCATION:Salle George Brassens (grande extention)\, 104 Avenue Anatole France\, Saint-Médard-en-Jalles\, 33160\, France
CATEGORIES:Séance de studio
ATTACH;FMTTYPE=image/jpeg:https://www.reflex33.fr/wp-content/uploads/2019/09/studio1.jpg
END:VEVENT
BEGIN:VEVENT
DTSTART;TZID=Europe/Paris:20241114T193000
DTEND;TZID=Europe/Paris:20241114T230000
DTSTAMP:20260420T100754
CREATED:20241111T083712Z
LAST-MODIFIED:20241111T083824Z
UID:3942-1731612600-1731625200@www.reflex33.fr
SUMMARY:Pont Simone Veil et Arena de Bordeaux
DESCRIPTION:Jeudi prochain\, nous vous proposons un nouveau spot jamais visité avec le club : le tout nouveau Pont Simone Veil ! \nCe sera l’occasion de découvrir ce nouvel ouvrage et ses points de vue\, de faire des photos de filés… et on pourra même faire de la photo d’architecture autour de l’Arena ! \nCovoiturage pour un départ à 19h30 depuis le parking du Leclerc de Saint-Médard-en-Jalles\,\nou\nrendez-vous à 20h15 sur place. \nSur place\,\nOn se rejoindra au début du pont Simone Veil côté « Bordeaux ». \nVoici le plan pour situer le lieu de rendez-vous : \n﻿ \net le lien pour que votre GPS calcule l’itinéraire : https://maps.app.goo.gl/zdaMRMCBy3VmgFo68 \nQui vient jeudi prochain ?\nVeuillez activer JavaScript dans votre navigateur pour remplir ce formulaire.Nom *Choisissez votre lieu de rendez-vous : *Covoiturage / Transport en communJe m'y rends directement sur placePas possible pour moiEnregistrer  \nLes participants à la prochaine sortie\n  \n    \n      \n                  Nom\n                  Dispo\n              \n    \n    \n      \n                  Nom\n                  Dispo\n              \n    \n    \n              \n                      Michaël\n                      Covoiturage / Transport en commun\n                  \n              \n                      Matthieu astarick\n                      Covoiturage / Transport en commun\n                  \n              \n                      Damien\n                      Je m'y rends directement sur place\n                  \n          \n  \n  \n\n  \n\nPour modifier votre statut\, il vous suffit de réécrire votre nom tel que vous l’avez saisi la première fois dans le formulaire ci-dessus et de sélectionner un nouveau statut.
URL:https://www.reflex33.fr/agenda/pont-simone-veil-et-arena-de-bordeaux/
LOCATION:Pont Simone Veil\, Bd Jean Jacques Bosc\, Bègles\, 33100\, France
CATEGORIES:Sorties du jeudi soir
ATTACH;FMTTYPE=image/jpeg:https://www.reflex33.fr/wp-content/uploads/2024/11/pont-simone-veil-bordeaux-31.jpeg
END:VEVENT
END:VCALENDAR