BEGIN:VCALENDAR
VERSION:2.0
PRODID:-//Club photo Reflex 33 - ECPv6.15.20//NONSGML v1.0//EN
CALSCALE:GREGORIAN
METHOD:PUBLISH
X-WR-CALNAME:Club photo Reflex 33
X-ORIGINAL-URL:https://www.reflex33.fr
X-WR-CALDESC:Évènements pour Club photo Reflex 33
REFRESH-INTERVAL;VALUE=DURATION:PT1H
X-Robots-Tag:noindex
X-PUBLISHED-TTL:PT1H
BEGIN:VTIMEZONE
TZID:Europe/Paris
BEGIN:DAYLIGHT
TZOFFSETFROM:+0100
TZOFFSETTO:+0200
TZNAME:CEST
DTSTART:20250330T010000
END:DAYLIGHT
BEGIN:STANDARD
TZOFFSETFROM:+0200
TZOFFSETTO:+0100
TZNAME:CET
DTSTART:20251026T010000
END:STANDARD
BEGIN:DAYLIGHT
TZOFFSETFROM:+0100
TZOFFSETTO:+0200
TZNAME:CEST
DTSTART:20260329T010000
END:DAYLIGHT
BEGIN:STANDARD
TZOFFSETFROM:+0200
TZOFFSETTO:+0100
TZNAME:CET
DTSTART:20261025T010000
END:STANDARD
BEGIN:DAYLIGHT
TZOFFSETFROM:+0100
TZOFFSETTO:+0200
TZNAME:CEST
DTSTART:20270328T010000
END:DAYLIGHT
BEGIN:STANDARD
TZOFFSETFROM:+0200
TZOFFSETTO:+0100
TZNAME:CET
DTSTART:20271031T010000
END:STANDARD
END:VTIMEZONE
BEGIN:VEVENT
DTSTART;TZID=Europe/Paris:20260402T193000
DTEND;TZID=Europe/Paris:20260402T223000
DTSTAMP:20260421T105635
CREATED:20260401T072951Z
LAST-MODIFIED:20260401T072951Z
UID:4660-1775158200-1775169000@www.reflex33.fr
SUMMARY:Séance de portrait en studio (encadrée par Adrien)
DESCRIPTION:Séance de studio encadrée par Adrien sur la thématique des lumières créatives : continue\, fumée et bulles…. \nDébut de la séance à 20h sachant que nous commencerons à installer le matériel dès 19h30. \nOù se déroule cette séance\nVoici le plan pour vous rendre à la salle située au situé au 104 Avenue Anatole France\, 33160 Saint-Médard-en-Jalles : \n﻿﻿ \net le lien pour que votre GPS calcul l’itinéraire : https://goo.gl/maps/7AhXWfSJcF2w9gsS8 \nQui vient à la prochaine séance de studio ?\nVeuillez activer JavaScript dans votre navigateur pour remplir ce formulaire.Nom *Quelle est votre disponibilité ? : *Je serai la !Pas possible pour moiEnregistrer  \nListe des participants
URL:https://www.reflex33.fr/agenda/seance-de-portrait-en-studio-encadree-par-adrien-10/
LOCATION:Salle George Brassens (grande extention)\, 104 Avenue Anatole France\, Saint-Médard-en-Jalles\, 33160\, France
CATEGORIES:Séance de studio
ATTACH;FMTTYPE=image/jpeg:https://www.reflex33.fr/wp-content/uploads/2019/09/studio1.jpg
END:VEVENT
END:VCALENDAR