BEGIN:VCALENDAR
VERSION:2.0
PRODID:-//Club photo Reflex 33 - ECPv6.15.20//NONSGML v1.0//EN
CALSCALE:GREGORIAN
METHOD:PUBLISH
X-WR-CALNAME:Club photo Reflex 33
X-ORIGINAL-URL:https://www.reflex33.fr
X-WR-CALDESC:Évènements pour Club photo Reflex 33
REFRESH-INTERVAL;VALUE=DURATION:PT1H
X-Robots-Tag:noindex
X-PUBLISHED-TTL:PT1H
BEGIN:VTIMEZONE
TZID:Europe/Paris
BEGIN:DAYLIGHT
TZOFFSETFROM:+0100
TZOFFSETTO:+0200
TZNAME:CEST
DTSTART:20250330T010000
END:DAYLIGHT
BEGIN:STANDARD
TZOFFSETFROM:+0200
TZOFFSETTO:+0100
TZNAME:CET
DTSTART:20251026T010000
END:STANDARD
BEGIN:DAYLIGHT
TZOFFSETFROM:+0100
TZOFFSETTO:+0200
TZNAME:CEST
DTSTART:20260329T010000
END:DAYLIGHT
BEGIN:STANDARD
TZOFFSETFROM:+0200
TZOFFSETTO:+0100
TZNAME:CET
DTSTART:20261025T010000
END:STANDARD
BEGIN:DAYLIGHT
TZOFFSETFROM:+0100
TZOFFSETTO:+0200
TZNAME:CEST
DTSTART:20270328T010000
END:DAYLIGHT
BEGIN:STANDARD
TZOFFSETFROM:+0200
TZOFFSETTO:+0100
TZNAME:CET
DTSTART:20271031T010000
END:STANDARD
END:VTIMEZONE
BEGIN:VEVENT
DTSTART;TZID=Europe/Paris:20260115T193000
DTEND;TZID=Europe/Paris:20260115T223000
DTSTAMP:20260421T103418
CREATED:20240719T101703Z
LAST-MODIFIED:20260113T083238Z
UID:3806-1768505400-1768516200@www.reflex33.fr
SUMMARY:Séance Studio / Boite à lumières macro / Proxi (Lego) / Iris
DESCRIPTION:Nous vous proposons une séance multithématique en intérieur : suite du travail de studio avec Martine\, macro dans les boites à lumières\, proxi avec Lego ou autres jouets\, iris…. N’hésitez-pas à apportez vos sujets pour réaliser les photos en macro et proxi ! \nDébut de la séance à 20h sachant que nous commencerons à installer le matériel dès 19h30. \nOù se déroule cette séance\nVoici le plan pour vous rendre à la salle située au situé au 104 Avenue Anatole France\, 33160 Saint-Médard-en-Jalles : \n﻿﻿ \net le lien pour que votre GPS calcul l’itinéraire : https://goo.gl/maps/7AhXWfSJcF2w9gsS8 \nQui vient à la prochaine séance de studio ?\nVeuillez activer JavaScript dans votre navigateur pour remplir ce formulaire.Nom *Quelle est votre disponibilité ? : *Je serai la !Pas possible pour moiEnregistrer  \nListe des participants
URL:https://www.reflex33.fr/agenda/seance-de-studio-macro-proxi/
LOCATION:Salle George Brassens (grande extention)\, 104 Avenue Anatole France\, Saint-Médard-en-Jalles\, 33160\, France
CATEGORIES:Séance de studio
ATTACH;FMTTYPE=image/jpeg:https://www.reflex33.fr/wp-content/uploads/2024/07/lego-kit-lens1-scaled.jpg
END:VEVENT
END:VCALENDAR