BEGIN:VCALENDAR
VERSION:2.0
PRODID:-//Club photo Reflex 33 - ECPv6.15.20//NONSGML v1.0//EN
CALSCALE:GREGORIAN
METHOD:PUBLISH
X-WR-CALNAME:Club photo Reflex 33
X-ORIGINAL-URL:https://www.reflex33.fr
X-WR-CALDESC:Évènements pour Club photo Reflex 33
REFRESH-INTERVAL;VALUE=DURATION:PT1H
X-Robots-Tag:noindex
X-PUBLISHED-TTL:PT1H
BEGIN:VTIMEZONE
TZID:Europe/Paris
BEGIN:DAYLIGHT
TZOFFSETFROM:+0100
TZOFFSETTO:+0200
TZNAME:CEST
DTSTART:20250330T010000
END:DAYLIGHT
BEGIN:STANDARD
TZOFFSETFROM:+0200
TZOFFSETTO:+0100
TZNAME:CET
DTSTART:20251026T010000
END:STANDARD
BEGIN:DAYLIGHT
TZOFFSETFROM:+0100
TZOFFSETTO:+0200
TZNAME:CEST
DTSTART:20260329T010000
END:DAYLIGHT
BEGIN:STANDARD
TZOFFSETFROM:+0200
TZOFFSETTO:+0100
TZNAME:CET
DTSTART:20261025T010000
END:STANDARD
BEGIN:DAYLIGHT
TZOFFSETFROM:+0100
TZOFFSETTO:+0200
TZNAME:CEST
DTSTART:20270328T010000
END:DAYLIGHT
BEGIN:STANDARD
TZOFFSETFROM:+0200
TZOFFSETTO:+0100
TZNAME:CET
DTSTART:20271031T010000
END:STANDARD
END:VTIMEZONE
BEGIN:VEVENT
DTSTART;TZID=Europe/Paris:20260426T070000
DTEND;TZID=Europe/Paris:20260426T190000
DTSTAMP:20260421T180743
CREATED:20260421T124751Z
LAST-MODIFIED:20260421T125017Z
UID:4671-1777186800-1777230000@www.reflex33.fr
SUMMARY:Zoo de la Palmyre
DESCRIPTION:Étant donnés les résultats du sondage\, c’est la journée du dimanche 26 avril qui a été retenue pour la sortie off au zoo de la Palmyre. \nCovoiturage pour un départ à 7h depuis le parking du Leclerc de Saint-Médard-en-Jalles\, afin d’arriver pour l’ouverture du zoo. \nPour le repas du midi\, vous pouvez apporter votre pique-nique ou profiter des services de restauration présents sur place\, au choix. \nPour le covoiturage\,\nVoici le plan pour situer le lieu de rendez-vous du covoiturage :\n \nQui vient à cette sortie ?\nVeuillez activer JavaScript dans votre navigateur pour remplir ce formulaire.Nom *Quelle est votre disponibilité ? : *Je serai la !Pas possible pour moiEnregistrer  \nPour modifier votre statut dans la liste suivante\, il vous suffit de réécrire votre nom tel que vous l’avez saisi la première fois dans le formulaire ci-dessus et de sélectionner un nouveau statut. \nListe des participants\n  \n    \n      \n                  Nom\n                  Dispo\n              \n    \n    \n      \n                  Nom\n                  Dispo\n              \n    \n    \n              \n                      Damien\n                      Je serai la !\n                  \n              \n                      Murielle\n                      Je serai la !\n                  \n              \n                      Michaël\n                      Pas possible pour moi\n                  \n              \n                      Gina\n                      Pas possible pour moi
URL:https://www.reflex33.fr/agenda/zoo-de-la-palmyre/
LOCATION:Zoo de la Palmyre\, 6 Av. de Royan\, Les Mathes\, 17570\, France
CATEGORIES:Sorties OFF
ATTACH;FMTTYPE=image/jpeg:https://www.reflex33.fr/wp-content/uploads/2026/04/zoo-la-palmyre1.jpg
END:VEVENT
END:VCALENDAR